BEGIN:VCALENDAR
VERSION:2.0
PRODID:-//phil.firespring.org//NONSGML kigkonsult.se iCalcreator 2.30.10//
CALSCALE:GREGORIAN
METHOD:PUBLISH
UID:ad2ca5e0-9612-44f3-b82a-b56e1612a76b
X-WR-CALDESC:Please bring drinking water
X-WR-RELCALID:5affc6f815a3dce5ea6ffda81247355f
X-WR-TIMEZONE:America/Chicago
BEGIN:VTIMEZONE
TZID:America/Chicago
BEGIN:STANDARD
TZNAME:CST
DTSTART:20271107T020000
TZOFFSETFROM:-0500
TZOFFSETTO:-0600
RDATE:20281105T020000
RDATE:20291104T020000
END:STANDARD
BEGIN:DAYLIGHT
TZNAME:CDT
DTSTART:20280312T020000
TZOFFSETFROM:-0600
TZOFFSETTO:-0500
RDATE:20290311T020000
END:DAYLIGHT
END:VTIMEZONE
BEGIN:VEVENT
UID:e4f61eeb-0a0d-4f8d-a234-c530ad6c1e61
DTSTAMP:20260422T232910Z
DESCRIPTION:Please bring drinking water
DTSTART;TZID=America/Chicago:20280608T160000
DTEND;TZID=America/Chicago:20280608T170000
LOCATION:Firespring
SUMMARY:Walking Group
END:VEVENT
END:VCALENDAR
