BEGIN:VCALENDAR
VERSION:2.0
PRODID:-//phil.firespring.org//NONSGML kigkonsult.se iCalcreator 2.30.10//
CALSCALE:GREGORIAN
METHOD:PUBLISH
UID:288b3eeb-9fff-4a12-a8c2-df6450fe7fc9
X-WR-CALDESC:Please bring drinking water
X-WR-RELCALID:7d75d37f1f3410b92fadff7d6af9720a
X-WR-TIMEZONE:America/Chicago
BEGIN:VTIMEZONE
TZID:America/Chicago
BEGIN:STANDARD
TZNAME:CST
DTSTART:20271107T020000
TZOFFSETFROM:-0500
TZOFFSETTO:-0600
RDATE:20281105T020000
RDATE:20291104T020000
END:STANDARD
BEGIN:DAYLIGHT
TZNAME:CDT
DTSTART:20280312T020000
TZOFFSETFROM:-0600
TZOFFSETTO:-0500
RDATE:20290311T020000
END:DAYLIGHT
END:VTIMEZONE
BEGIN:VEVENT
UID:73cc7575-4c8a-4752-a5e8-d7b8e102a14c
DTSTAMP:20260422T233059Z
DESCRIPTION:Please bring drinking water
DTSTART;TZID=America/Chicago:20280615T160000
DTEND;TZID=America/Chicago:20280615T170000
LOCATION:Firespring
SUMMARY:Walking Group
END:VEVENT
END:VCALENDAR
