BEGIN:VCALENDAR
VERSION:2.0
PRODID:-//phil.firespring.org//NONSGML kigkonsult.se iCalcreator 2.30.10//
CALSCALE:GREGORIAN
METHOD:PUBLISH
UID:6b86c8c8-5e84-461b-87ba-31717fd6fe55
X-WR-CALDESC:Please bring drinking water
X-WR-RELCALID:26d967ab315df5dbf33e8dd276cb60e9
X-WR-TIMEZONE:America/Chicago
BEGIN:VTIMEZONE
TZID:America/Chicago
BEGIN:STANDARD
TZNAME:CST
DTSTART:20271107T020000
TZOFFSETFROM:-0500
TZOFFSETTO:-0600
RDATE:20281105T020000
RDATE:20291104T020000
END:STANDARD
BEGIN:DAYLIGHT
TZNAME:CDT
DTSTART:20280312T020000
TZOFFSETFROM:-0600
TZOFFSETTO:-0500
RDATE:20290311T020000
END:DAYLIGHT
END:VTIMEZONE
BEGIN:VEVENT
UID:21e8def6-07ee-4121-8d92-81be2b2d8b4f
DTSTAMP:20260422T232845Z
DESCRIPTION:Please bring drinking water
DTSTART;TZID=America/Chicago:20280629T160000
DTEND;TZID=America/Chicago:20280629T170000
LOCATION:Firespring
SUMMARY:Walking Group
END:VEVENT
END:VCALENDAR
