BEGIN:VCALENDAR
VERSION:2.0
PRODID:-//phil.firespring.org//NONSGML kigkonsult.se iCalcreator 2.30.10//
CALSCALE:GREGORIAN
METHOD:PUBLISH
UID:2ba29e3d-ab1d-4a9f-af2a-010764b4339a
X-WR-CALDESC:Please bring drinking water
X-WR-RELCALID:2c8275ae8c29701b6078c5880ab3f85d
X-WR-TIMEZONE:America/Chicago
BEGIN:VTIMEZONE
TZID:America/Chicago
BEGIN:STANDARD
TZNAME:CST
DTSTART:20271107T020000
TZOFFSETFROM:-0500
TZOFFSETTO:-0600
RDATE:20281105T020000
RDATE:20291104T020000
END:STANDARD
BEGIN:DAYLIGHT
TZNAME:CDT
DTSTART:20280312T020000
TZOFFSETFROM:-0600
TZOFFSETTO:-0500
RDATE:20290311T020000
END:DAYLIGHT
END:VTIMEZONE
BEGIN:VEVENT
UID:f298f7b3-2f60-418f-bce1-fdaf9776accf
DTSTAMP:20260423T005740Z
DESCRIPTION:Please bring drinking water
DTSTART;TZID=America/Chicago:20280713T160000
DTEND;TZID=America/Chicago:20280713T170000
LOCATION:Firespring
SUMMARY:Walking Group
END:VEVENT
END:VCALENDAR
