BEGIN:VCALENDAR
VERSION:2.0
PRODID:-//phil.firespring.org//NONSGML kigkonsult.se iCalcreator 2.30.10//
CALSCALE:GREGORIAN
METHOD:PUBLISH
UID:8dfe0631-d929-4527-a402-ae14da79a4d8
X-WR-CALDESC:Please bring drinking water
X-WR-RELCALID:2575041882672e19e84eb3fc91c5822e
X-WR-TIMEZONE:America/Chicago
BEGIN:VTIMEZONE
TZID:America/Chicago
BEGIN:STANDARD
TZNAME:CST
DTSTART:20271107T020000
TZOFFSETFROM:-0500
TZOFFSETTO:-0600
RDATE:20281105T020000
RDATE:20291104T020000
END:STANDARD
BEGIN:DAYLIGHT
TZNAME:CDT
DTSTART:20280312T020000
TZOFFSETFROM:-0600
TZOFFSETTO:-0500
RDATE:20290311T020000
END:DAYLIGHT
END:VTIMEZONE
BEGIN:VEVENT
UID:bcfb4364-4955-4c58-a27b-1bf5c5685f96
DTSTAMP:20260423T005857Z
DESCRIPTION:Please bring drinking water
DTSTART;TZID=America/Chicago:20280727T160000
DTEND;TZID=America/Chicago:20280727T170000
LOCATION:Firespring
SUMMARY:Walking Group
END:VEVENT
END:VCALENDAR
