BEGIN:VCALENDAR
VERSION:2.0
PRODID:-//phil.firespring.org//NONSGML kigkonsult.se iCalcreator 2.30.10//
CALSCALE:GREGORIAN
METHOD:PUBLISH
UID:7d291fb1-7c22-40a1-8844-587aa05b2ec4
X-WR-CALDESC:Please bring drinking water
X-WR-RELCALID:9b91577c2069ab02f349f5cdc6f108b8
X-WR-TIMEZONE:America/Chicago
BEGIN:VTIMEZONE
TZID:America/Chicago
BEGIN:STANDARD
TZNAME:CST
DTSTART:20271107T020000
TZOFFSETFROM:-0500
TZOFFSETTO:-0600
RDATE:20281105T020000
RDATE:20291104T020000
END:STANDARD
BEGIN:DAYLIGHT
TZNAME:CDT
DTSTART:20280312T020000
TZOFFSETFROM:-0600
TZOFFSETTO:-0500
RDATE:20290311T020000
END:DAYLIGHT
END:VTIMEZONE
BEGIN:VEVENT
UID:d794ebd5-59ce-4616-9bdb-b1e71219cc0c
DTSTAMP:20260423T023955Z
DESCRIPTION:Please bring drinking water
DTSTART;TZID=America/Chicago:20280817T160000
DTEND;TZID=America/Chicago:20280817T170000
LOCATION:Firespring
SUMMARY:Walking Group
END:VEVENT
END:VCALENDAR
