BEGIN:VCALENDAR
VERSION:2.0
PRODID:-//phil.firespring.org//NONSGML kigkonsult.se iCalcreator 2.30.10//
CALSCALE:GREGORIAN
METHOD:PUBLISH
UID:24df38ba-a558-4c12-ba14-55a0409f7143
X-WR-CALDESC:Please bring drinking water
X-WR-RELCALID:d9d4488591744ea429682d44aa66abf8
X-WR-TIMEZONE:America/Chicago
BEGIN:VTIMEZONE
TZID:America/Chicago
BEGIN:STANDARD
TZNAME:CST
DTSTART:20271107T020000
TZOFFSETFROM:-0500
TZOFFSETTO:-0600
RDATE:20281105T020000
RDATE:20291104T020000
END:STANDARD
BEGIN:DAYLIGHT
TZNAME:CDT
DTSTART:20280312T020000
TZOFFSETFROM:-0600
TZOFFSETTO:-0500
RDATE:20290311T020000
END:DAYLIGHT
END:VTIMEZONE
BEGIN:VEVENT
UID:e398baee-de4a-4554-9af0-cb85b2d36ef1
DTSTAMP:20260423T023916Z
DESCRIPTION:Please bring drinking water
DTSTART;TZID=America/Chicago:20280824T160000
DTEND;TZID=America/Chicago:20280824T170000
LOCATION:Firespring
SUMMARY:Walking Group
END:VEVENT
END:VCALENDAR
