BEGIN:VCALENDAR
VERSION:2.0
PRODID:-//phil.firespring.org//NONSGML kigkonsult.se iCalcreator 2.30.10//
CALSCALE:GREGORIAN
METHOD:PUBLISH
UID:bd0b7605-4c12-4c94-b099-123c4bd2f3c4
X-WR-CALDESC:Please bring drinking water
X-WR-RELCALID:0bf23cf4a4b3cadf8e610837a5224735
X-WR-TIMEZONE:America/Chicago
BEGIN:VTIMEZONE
TZID:America/Chicago
BEGIN:STANDARD
TZNAME:CST
DTSTART:20271107T020000
TZOFFSETFROM:-0500
TZOFFSETTO:-0600
RDATE:20281105T020000
RDATE:20291104T020000
END:STANDARD
BEGIN:DAYLIGHT
TZNAME:CDT
DTSTART:20280312T020000
TZOFFSETFROM:-0600
TZOFFSETTO:-0500
RDATE:20290311T020000
RDATE:20300310T020000
END:DAYLIGHT
END:VTIMEZONE
BEGIN:VEVENT
UID:1d82a23b-225d-4295-ab07-8f7defd35070
DTSTAMP:20260423T053227Z
DESCRIPTION:Please bring drinking water
DTSTART;TZID=America/Chicago:20281019T160000
DTEND;TZID=America/Chicago:20281019T170000
LOCATION:Firespring
SUMMARY:Walking Group
END:VEVENT
END:VCALENDAR
