BEGIN:VCALENDAR
VERSION:2.0
PRODID:-//phil.firespring.org//NONSGML kigkonsult.se iCalcreator 2.30.10//
CALSCALE:GREGORIAN
METHOD:PUBLISH
UID:2ca0181e-a8a6-49e1-987f-ffb1cf2f125f
X-WR-CALDESC:Please bring drinking water
X-WR-RELCALID:50b1ea3b1a5f831e6bf9c8cfb772d74c
X-WR-TIMEZONE:America/Chicago
BEGIN:VTIMEZONE
TZID:America/Chicago
BEGIN:STANDARD
TZNAME:CST
DTSTART:20281105T020000
TZOFFSETFROM:-0500
TZOFFSETTO:-0600
RDATE:20291104T020000
END:STANDARD
BEGIN:DAYLIGHT
TZNAME:CDT
DTSTART:20280312T020000
TZOFFSETFROM:-0600
TZOFFSETTO:-0500
RDATE:20290311T020000
RDATE:20300310T020000
END:DAYLIGHT
END:VTIMEZONE
BEGIN:VEVENT
UID:da5c0994-898f-4938-b116-05ff9f19f133
DTSTAMP:20260425T103301Z
DESCRIPTION:Please bring drinking water
DTSTART;TZID=America/Chicago:20290215T160000
DTEND;TZID=America/Chicago:20290215T170000
LOCATION:Firespring
SUMMARY:Walking Group
END:VEVENT
END:VCALENDAR
