BEGIN:VCALENDAR
VERSION:2.0
PRODID:-//phil.firespring.org//NONSGML kigkonsult.se iCalcreator 2.30.10//
CALSCALE:GREGORIAN
METHOD:PUBLISH
UID:e0affa21-1bb9-4fb0-8659-35052e60f41b
X-WR-CALDESC:Please bring drinking water
X-WR-RELCALID:93197ce173f2effbf95bfe12a9fe1f12
X-WR-TIMEZONE:America/Chicago
BEGIN:VTIMEZONE
TZID:America/Chicago
BEGIN:STANDARD
TZNAME:CST
DTSTART:20281105T020000
TZOFFSETFROM:-0500
TZOFFSETTO:-0600
RDATE:20291104T020000
RDATE:20301103T020000
END:STANDARD
BEGIN:DAYLIGHT
TZNAME:CDT
DTSTART:20290311T020000
TZOFFSETFROM:-0600
TZOFFSETTO:-0500
RDATE:20300310T020000
END:DAYLIGHT
END:VTIMEZONE
BEGIN:VEVENT
UID:73bc70de-0d40-4638-9e7a-21ada330ebad
DTSTAMP:20260425T143758Z
DESCRIPTION:Please bring drinking water
DTSTART;TZID=America/Chicago:20290510T160000
DTEND;TZID=America/Chicago:20290510T170000
LOCATION:Firespring
SUMMARY:Walking Group
END:VEVENT
END:VCALENDAR
