BEGIN:VCALENDAR
VERSION:2.0
PRODID:-//phil.firespring.org//NONSGML kigkonsult.se iCalcreator 2.30.10//
CALSCALE:GREGORIAN
METHOD:PUBLISH
UID:60ab3161-28aa-473a-a8fa-31b8c8fdbf9f
X-WR-CALDESC:Please bring drinking water
X-WR-RELCALID:7a63055bf4184c0348f0467a25d7f460
X-WR-TIMEZONE:America/Chicago
BEGIN:VTIMEZONE
TZID:America/Chicago
BEGIN:STANDARD
TZNAME:CST
DTSTART:20281105T020000
TZOFFSETFROM:-0500
TZOFFSETTO:-0600
RDATE:20291104T020000
RDATE:20301103T020000
END:STANDARD
BEGIN:DAYLIGHT
TZNAME:CDT
DTSTART:20290311T020000
TZOFFSETFROM:-0600
TZOFFSETTO:-0500
RDATE:20300310T020000
END:DAYLIGHT
END:VTIMEZONE
BEGIN:VEVENT
UID:c471b878-33a2-4925-9376-09eaa97c1dec
DTSTAMP:20260425T144636Z
DESCRIPTION:Please bring drinking water
DTSTART;TZID=America/Chicago:20290524T160000
DTEND;TZID=America/Chicago:20290524T170000
LOCATION:Firespring
SUMMARY:Walking Group
END:VEVENT
END:VCALENDAR
