BEGIN:VCALENDAR
VERSION:2.0
PRODID:-//phil.firespring.org//NONSGML kigkonsult.se iCalcreator 2.30.10//
CALSCALE:GREGORIAN
METHOD:PUBLISH
UID:fe6504cd-da20-4416-ab23-4525a06ba381
X-WR-CALDESC:Please bring drinking water
X-WR-RELCALID:5bedb6c3e0e3315fbd17214a3c07b24d
X-WR-TIMEZONE:America/Chicago
BEGIN:VTIMEZONE
TZID:America/Chicago
BEGIN:STANDARD
TZNAME:CST
DTSTART:20281105T020000
TZOFFSETFROM:-0500
TZOFFSETTO:-0600
RDATE:20291104T020000
RDATE:20301103T020000
END:STANDARD
BEGIN:DAYLIGHT
TZNAME:CDT
DTSTART:20290311T020000
TZOFFSETFROM:-0600
TZOFFSETTO:-0500
RDATE:20300310T020000
END:DAYLIGHT
END:VTIMEZONE
BEGIN:VEVENT
UID:34216bed-551a-4b18-9cba-a47b79889f92
DTSTAMP:20260425T172751Z
DESCRIPTION:Please bring drinking water
DTSTART;TZID=America/Chicago:20290712T160000
DTEND;TZID=America/Chicago:20290712T170000
LOCATION:Firespring
SUMMARY:Walking Group
END:VEVENT
END:VCALENDAR
