BEGIN:VCALENDAR
VERSION:2.0
PRODID:-//phil.firespring.org//NONSGML kigkonsult.se iCalcreator 2.30.10//
CALSCALE:GREGORIAN
METHOD:PUBLISH
UID:5e6c5e50-2054-4306-9af6-c65909f49b92
X-WR-CALDESC:Please bring drinking water
X-WR-RELCALID:114921562ae32fdab2b873039444cc2c
X-WR-TIMEZONE:America/Chicago
BEGIN:VTIMEZONE
TZID:America/Chicago
BEGIN:STANDARD
TZNAME:CST
DTSTART:20281105T020000
TZOFFSETFROM:-0500
TZOFFSETTO:-0600
RDATE:20291104T020000
RDATE:20301103T020000
END:STANDARD
BEGIN:DAYLIGHT
TZNAME:CDT
DTSTART:20290311T020000
TZOFFSETFROM:-0600
TZOFFSETTO:-0500
RDATE:20300310T020000
END:DAYLIGHT
END:VTIMEZONE
BEGIN:VEVENT
UID:835d5d14-90ac-4ca9-b5ec-d1342c55de64
DTSTAMP:20260425T171644Z
DESCRIPTION:Please bring drinking water
DTSTART;TZID=America/Chicago:20290726T160000
DTEND;TZID=America/Chicago:20290726T170000
LOCATION:Firespring
SUMMARY:Walking Group
END:VEVENT
END:VCALENDAR
