BEGIN:VCALENDAR
VERSION:2.0
PRODID:-//phil.firespring.org//NONSGML kigkonsult.se iCalcreator 2.30.10//
CALSCALE:GREGORIAN
METHOD:PUBLISH
UID:603d0d40-3e1d-41da-adc0-ac5a9455522b
X-WR-CALDESC:Please bring drinking water
X-WR-RELCALID:870683e2378ef09d33e2dfab12217701
X-WR-TIMEZONE:America/Chicago
BEGIN:VTIMEZONE
TZID:America/Chicago
BEGIN:STANDARD
TZNAME:CST
DTSTART:20281105T020000
TZOFFSETFROM:-0500
TZOFFSETTO:-0600
RDATE:20291104T020000
RDATE:20301103T020000
END:STANDARD
BEGIN:DAYLIGHT
TZNAME:CDT
DTSTART:20290311T020000
TZOFFSETFROM:-0600
TZOFFSETTO:-0500
RDATE:20300310T020000
END:DAYLIGHT
END:VTIMEZONE
BEGIN:VEVENT
UID:0c5b99db-2234-470d-ba64-4a2ca77f6485
DTSTAMP:20260425T183901Z
DESCRIPTION:Please bring drinking water
DTSTART;TZID=America/Chicago:20290802T160000
DTEND;TZID=America/Chicago:20290802T170000
LOCATION:Firespring
SUMMARY:Walking Group
END:VEVENT
END:VCALENDAR
