BEGIN:VCALENDAR
VERSION:2.0
PRODID:-//phil.firespring.org//NONSGML kigkonsult.se iCalcreator 2.30.10//
CALSCALE:GREGORIAN
METHOD:PUBLISH
UID:d33d2814-dc20-4000-be0c-95e5d6be4248
X-WR-CALDESC:Please bring drinking water
X-WR-RELCALID:53f33f7db9e51a8afd2f84e1114d52ee
X-WR-TIMEZONE:America/Chicago
BEGIN:VTIMEZONE
TZID:America/Chicago
BEGIN:STANDARD
TZNAME:CST
DTSTART:20291104T020000
TZOFFSETFROM:-0500
TZOFFSETTO:-0600
RDATE:20301103T020000
END:STANDARD
BEGIN:DAYLIGHT
TZNAME:CDT
DTSTART:20290311T020000
TZOFFSETFROM:-0600
TZOFFSETTO:-0500
RDATE:20300310T020000
RDATE:20310309T020000
END:DAYLIGHT
END:VTIMEZONE
BEGIN:VEVENT
UID:147700b4-ee18-4dcf-a758-a2cb7527a41f
DTSTAMP:20260425T235344Z
DESCRIPTION:Please bring drinking water
DTSTART;TZID=America/Chicago:20291108T160000
DTEND;TZID=America/Chicago:20291108T170000
LOCATION:Firespring
SUMMARY:Walking Group
END:VEVENT
END:VCALENDAR
