BEGIN:VCALENDAR
VERSION:2.0
PRODID:-//phil.firespring.org//NONSGML kigkonsult.se iCalcreator 2.30.10//
CALSCALE:GREGORIAN
METHOD:PUBLISH
UID:f5bca41b-b2ad-4e0d-bc7e-44b683354f9e
X-WR-CALDESC:Please bring drinking water
X-WR-RELCALID:3d462246926e63cd6eaee9e6f4dc6ceb
X-WR-TIMEZONE:America/Chicago
BEGIN:VTIMEZONE
TZID:America/Chicago
BEGIN:STANDARD
TZNAME:CST
DTSTART:20291104T020000
TZOFFSETFROM:-0500
TZOFFSETTO:-0600
RDATE:20301103T020000
END:STANDARD
BEGIN:DAYLIGHT
TZNAME:CDT
DTSTART:20290311T020000
TZOFFSETFROM:-0600
TZOFFSETTO:-0500
RDATE:20300310T020000
RDATE:20310309T020000
END:DAYLIGHT
END:VTIMEZONE
BEGIN:VEVENT
UID:90894c7b-4e04-44d8-9460-f4d6e95989cb
DTSTAMP:20260426T012203Z
DESCRIPTION:Please bring drinking water
DTSTART;TZID=America/Chicago:20291227T160000
DTEND;TZID=America/Chicago:20291227T170000
LOCATION:Firespring
SUMMARY:Walking Group
END:VEVENT
END:VCALENDAR
