BEGIN:VCALENDAR
VERSION:2.0
PRODID:-//phil.firespring.org//NONSGML kigkonsult.se iCalcreator 2.30.10//
CALSCALE:GREGORIAN
METHOD:PUBLISH
UID:09d30d2b-a36f-414a-9c42-c114c21417c1
X-WR-CALDESC:Please bring drinking water
X-WR-RELCALID:8820bda2028ecb5614ca034289505a25
X-WR-TIMEZONE:America/Chicago
BEGIN:VTIMEZONE
TZID:America/Chicago
BEGIN:STANDARD
TZNAME:CST
DTSTART:20291104T020000
TZOFFSETFROM:-0500
TZOFFSETTO:-0600
RDATE:20301103T020000
END:STANDARD
BEGIN:DAYLIGHT
TZNAME:CDT
DTSTART:20290311T020000
TZOFFSETFROM:-0600
TZOFFSETTO:-0500
RDATE:20300310T020000
RDATE:20310309T020000
END:DAYLIGHT
END:VTIMEZONE
BEGIN:VEVENT
UID:90c7efaa-3686-4855-9dcd-0c998823cb0f
DTSTAMP:20260426T024502Z
DESCRIPTION:Please bring drinking water
DTSTART;TZID=America/Chicago:20300110T160000
DTEND;TZID=America/Chicago:20300110T170000
LOCATION:Firespring
SUMMARY:Walking Group
END:VEVENT
END:VCALENDAR
