BEGIN:VCALENDAR
VERSION:2.0
PRODID:-//phil.firespring.org//NONSGML kigkonsult.se iCalcreator 2.30.10//
CALSCALE:GREGORIAN
METHOD:PUBLISH
UID:4f077854-a637-4a19-9966-ceea9081cf0f
X-WR-CALDESC:Please bring drinking water
X-WR-RELCALID:75b16ac0a9466271e7e7c75c96152b90
X-WR-TIMEZONE:America/Chicago
BEGIN:VTIMEZONE
TZID:America/Chicago
BEGIN:STANDARD
TZNAME:CST
DTSTART:20291104T020000
TZOFFSETFROM:-0500
TZOFFSETTO:-0600
RDATE:20301103T020000
END:STANDARD
BEGIN:DAYLIGHT
TZNAME:CDT
DTSTART:20290311T020000
TZOFFSETFROM:-0600
TZOFFSETTO:-0500
RDATE:20300310T020000
RDATE:20310309T020000
END:DAYLIGHT
END:VTIMEZONE
BEGIN:VEVENT
UID:c4015f61-426d-4809-b249-e0532a6ec36a
DTSTAMP:20260426T025512Z
DESCRIPTION:Please bring drinking water
DTSTART;TZID=America/Chicago:20300124T160000
DTEND;TZID=America/Chicago:20300124T170000
LOCATION:Firespring
SUMMARY:Walking Group
END:VEVENT
END:VCALENDAR
