BEGIN:VCALENDAR
VERSION:2.0
PRODID:-//phil.firespring.org//NONSGML kigkonsult.se iCalcreator 2.30.10//
CALSCALE:GREGORIAN
METHOD:PUBLISH
UID:5169d4ae-cbcf-4c4d-b396-a7ccc685e175
X-WR-CALDESC:
X-WR-RELCALID:decd390b727143d655e8320182ebaac9
X-WR-TIMEZONE:America/Chicago
BEGIN:VTIMEZONE
TZID:America/Chicago
BEGIN:STANDARD
TZNAME:CST
DTSTART:20211107T020000
TZOFFSETFROM:-0500
TZOFFSETTO:-0600
RDATE:20221106T020000
RDATE:20231105T020000
END:STANDARD
BEGIN:DAYLIGHT
TZNAME:CDT
DTSTART:20220313T020000
TZOFFSETFROM:-0600
TZOFFSETTO:-0500
RDATE:20230312T020000
RDATE:20240310T020000
END:DAYLIGHT
END:VTIMEZONE
BEGIN:VEVENT
UID:b888a8f5-20da-4572-bfed-28380b050ebf
DTSTAMP:20260426T031142Z
DESCRIPTION:
DTSTART;TZID=America/Chicago:20220930T000000
DTEND;TZID=America/Chicago:20220930T235900
LOCATION:
SUMMARY:Tax Review
END:VEVENT
END:VCALENDAR
