BEGIN:VCALENDAR
VERSION:2.0
PRODID:-//phil.firespring.org//NONSGML kigkonsult.se iCalcreator 2.30.10//
CALSCALE:GREGORIAN
METHOD:PUBLISH
UID:f5cd4632-7a80-4597-90f3-f1e83b42a460
X-WR-CALDESC:
X-WR-RELCALID:fe15d4c9224b7f1d6289824b5a322114
X-WR-TIMEZONE:America/Chicago
BEGIN:VTIMEZONE
TZID:America/Chicago
BEGIN:STANDARD
TZNAME:CST
DTSTART:20211107T020000
TZOFFSETFROM:-0500
TZOFFSETTO:-0600
RDATE:20221106T020000
RDATE:20231105T020000
END:STANDARD
BEGIN:DAYLIGHT
TZNAME:CDT
DTSTART:20220313T020000
TZOFFSETFROM:-0600
TZOFFSETTO:-0500
RDATE:20230312T020000
RDATE:20240310T020000
END:DAYLIGHT
END:VTIMEZONE
BEGIN:VEVENT
UID:ca28e4b0-f7ec-4d91-b9e5-07f62ca7c92c
DTSTAMP:20260426T013357Z
DESCRIPTION:
DTSTART;TZID=America/Chicago:20221029T150000
DTEND;TZID=America/Chicago:20221029T160000
LOCATION:
SUMMARY:Halloween @ WOW
END:VEVENT
END:VCALENDAR
