BEGIN:VCALENDAR
VERSION:2.0
PRODID:-//phil.firespring.org//NONSGML kigkonsult.se iCalcreator 2.30.10//
CALSCALE:GREGORIAN
METHOD:PUBLISH
UID:1822b741-61cd-4fc1-9be1-84de67298383
X-WR-CALDESC:Please bring drinking water
X-WR-RELCALID:dacc1248ea088efea9db18d4f303614e
X-WR-TIMEZONE:America/Chicago
BEGIN:VTIMEZONE
TZID:America/Chicago
BEGIN:STANDARD
TZNAME:CST
DTSTART:20221106T020000
TZOFFSETFROM:-0500
TZOFFSETTO:-0600
RDATE:20231105T020000
END:STANDARD
BEGIN:DAYLIGHT
TZNAME:CDT
DTSTART:20220313T020000
TZOFFSETFROM:-0600
TZOFFSETTO:-0500
RDATE:20230312T020000
RDATE:20240310T020000
END:DAYLIGHT
END:VTIMEZONE
BEGIN:VEVENT
UID:b63ee45d-a89e-46e2-b68f-0aaf27372e37
DTSTAMP:20260425T213602Z
DESCRIPTION:Please bring drinking water
DTSTART;TZID=America/Chicago:20230105T160000
DTEND;TZID=America/Chicago:20230105T170000
LOCATION:Firespring
SUMMARY:Walking Group
END:VEVENT
END:VCALENDAR
