BEGIN:VCALENDAR
VERSION:2.0
PRODID:-//phil.firespring.org//NONSGML kigkonsult.se iCalcreator 2.30.10//
CALSCALE:GREGORIAN
METHOD:PUBLISH
UID:ff68aac8-05ca-48dc-a479-86596af38863
X-WR-CALDESC:This is an event with little detail..
X-WR-RELCALID:764b77340f78156c5267e5c9187e5525
X-WR-TIMEZONE:America/Chicago
BEGIN:VTIMEZONE
TZID:America/Chicago
BEGIN:STANDARD
TZNAME:CST
DTSTART:20221106T020000
TZOFFSETFROM:-0500
TZOFFSETTO:-0600
RDATE:20231105T020000
END:STANDARD
BEGIN:DAYLIGHT
TZNAME:CDT
DTSTART:20220313T020000
TZOFFSETFROM:-0600
TZOFFSETTO:-0500
RDATE:20230312T020000
RDATE:20240310T020000
END:DAYLIGHT
END:VTIMEZONE
BEGIN:VEVENT
UID:acd42415-3d13-414c-b609-a990e570dae1
DTSTAMP:20260425T213607Z
DESCRIPTION:This is an event with little detail..
DTSTART;TZID=America/Chicago:20230127T160000
DTEND;TZID=America/Chicago:20230127T180000
LOCATION:
SUMMARY:End of January Meeting
END:VEVENT
END:VCALENDAR
