BEGIN:VCALENDAR
VERSION:2.0
PRODID:-//phil.firespring.org//NONSGML kigkonsult.se iCalcreator 2.30.10//
CALSCALE:GREGORIAN
METHOD:PUBLISH
UID:fdb1cf3a-6101-4b9f-a866-e94967079970
X-WR-CALDESC:
X-WR-RELCALID:3d030c3fd5d22fe9011f9fbb76c6086f
X-WR-TIMEZONE:America/Chicago
BEGIN:VTIMEZONE
TZID:America/Chicago
BEGIN:STANDARD
TZNAME:CST
DTSTART:20221106T020000
TZOFFSETFROM:-0500
TZOFFSETTO:-0600
RDATE:20231105T020000
END:STANDARD
BEGIN:DAYLIGHT
TZNAME:CDT
DTSTART:20220313T020000
TZOFFSETFROM:-0600
TZOFFSETTO:-0500
RDATE:20230312T020000
RDATE:20240310T020000
END:DAYLIGHT
END:VTIMEZONE
BEGIN:VEVENT
UID:7d36d2c6-44b8-4c6f-a9ea-4aad243107a0
DTSTAMP:20260425T212619Z
DESCRIPTION:
DTSTART;TZID=America/Chicago:20230131T173000
DTEND;TZID=America/Chicago:20230131T183000
LOCATION:
SUMMARY:Winter BajoLeLe
END:VEVENT
END:VCALENDAR
