BEGIN:VCALENDAR
VERSION:2.0
PRODID:-//phil.firespring.org//NONSGML kigkonsult.se iCalcreator 2.30.10//
CALSCALE:GREGORIAN
METHOD:PUBLISH
UID:c517e93b-7776-445f-ac10-9e68ecc22b12
X-WR-CALDESC:No details!
X-WR-RELCALID:5b8bbddaeda4c354c81b47e4c9b6eb28
X-WR-TIMEZONE:America/Chicago
BEGIN:VTIMEZONE
TZID:America/Chicago
BEGIN:STANDARD
TZNAME:CST
DTSTART:20221106T020000
TZOFFSETFROM:-0500
TZOFFSETTO:-0600
RDATE:20231105T020000
END:STANDARD
BEGIN:DAYLIGHT
TZNAME:CDT
DTSTART:20230312T020000
TZOFFSETFROM:-0600
TZOFFSETTO:-0500
RDATE:20240310T020000
END:DAYLIGHT
END:VTIMEZONE
BEGIN:VEVENT
UID:3de0c906-1aa4-4ae1-9fc4-ca61f3093527
DTSTAMP:20260425T185222Z
DESCRIPTION:No details!
DTSTART;TZID=America/Chicago:20230316T160000
DTEND;TZID=America/Chicago:20230316T173000
LOCATION:
SUMMARY:Financial Stability 101 Class
END:VEVENT
END:VCALENDAR
