BEGIN:VCALENDAR
VERSION:2.0
PRODID:-//phil.firespring.org//NONSGML kigkonsult.se iCalcreator 2.30.10//
CALSCALE:GREGORIAN
METHOD:PUBLISH
UID:91d38a30-a92d-4580-b98f-e13632fb984f
X-WR-CALDESC:
X-WR-RELCALID:9d8af728f2185a650c8ef211ddf4cf70
X-WR-TIMEZONE:America/Chicago
BEGIN:VTIMEZONE
TZID:America/Chicago
BEGIN:STANDARD
TZNAME:CST
DTSTART:20221106T020000
TZOFFSETFROM:-0500
TZOFFSETTO:-0600
RDATE:20231105T020000
END:STANDARD
BEGIN:DAYLIGHT
TZNAME:CDT
DTSTART:20230312T020000
TZOFFSETFROM:-0600
TZOFFSETTO:-0500
RDATE:20240310T020000
END:DAYLIGHT
END:VTIMEZONE
BEGIN:VEVENT
UID:04d3b0ea-14bc-4039-8043-b0d9887d672a
DTSTAMP:20260425T183818Z
DESCRIPTION:
DTSTART;TZID=America/Chicago:20230330T103000
DTEND;TZID=America/Chicago:20230330T113000
LOCATION:
SUMMARY:Morning Tour
END:VEVENT
END:VCALENDAR
