BEGIN:VCALENDAR
VERSION:2.0
PRODID:-//phil.firespring.org//NONSGML kigkonsult.se iCalcreator 2.30.10//
CALSCALE:GREGORIAN
METHOD:PUBLISH
UID:7e9770ee-5df1-427f-91ef-05d75be4d968
X-WR-CALDESC:No details!
X-WR-RELCALID:b47fd3877672af9c53e1ffb6acd6ac24
X-WR-TIMEZONE:America/Chicago
BEGIN:VTIMEZONE
TZID:America/Chicago
BEGIN:STANDARD
TZNAME:CST
DTSTART:20221106T020000
TZOFFSETFROM:-0500
TZOFFSETTO:-0600
RDATE:20231105T020000
END:STANDARD
BEGIN:DAYLIGHT
TZNAME:CDT
DTSTART:20230312T020000
TZOFFSETFROM:-0600
TZOFFSETTO:-0500
RDATE:20240310T020000
END:DAYLIGHT
END:VTIMEZONE
BEGIN:VEVENT
UID:5ae5a38f-6092-4d1a-8ac5-3d496b8b8143
DTSTAMP:20260425T172821Z
DESCRIPTION:No details!
DTSTART;TZID=America/Chicago:20230406T160000
DTEND;TZID=America/Chicago:20230406T173000
LOCATION:
SUMMARY:Financial Stability 101 Class
END:VEVENT
END:VCALENDAR
