BEGIN:VCALENDAR
VERSION:2.0
PRODID:-//phil.firespring.org//NONSGML kigkonsult.se iCalcreator 2.30.10//
CALSCALE:GREGORIAN
METHOD:PUBLISH
UID:3162f6b7-bc01-4400-86b6-8d050665d217
X-WR-CALDESC:Please bring drinking water
X-WR-RELCALID:d77509b456b0e950123791310dff0856
X-WR-TIMEZONE:America/Chicago
BEGIN:VTIMEZONE
TZID:America/Chicago
BEGIN:STANDARD
TZNAME:CST
DTSTART:20221106T020000
TZOFFSETFROM:-0500
TZOFFSETTO:-0600
RDATE:20231105T020000
END:STANDARD
BEGIN:DAYLIGHT
TZNAME:CDT
DTSTART:20230312T020000
TZOFFSETFROM:-0600
TZOFFSETTO:-0500
RDATE:20240310T020000
END:DAYLIGHT
END:VTIMEZONE
BEGIN:VEVENT
UID:61a29cfd-f50d-4d06-95e1-a8d1159f4106
DTSTAMP:20260425T172633Z
DESCRIPTION:Please bring drinking water
DTSTART;TZID=America/Chicago:20230427T160000
DTEND;TZID=America/Chicago:20230427T170000
LOCATION:Firespring
SUMMARY:Walking Group
END:VEVENT
END:VCALENDAR
