BEGIN:VCALENDAR
VERSION:2.0
PRODID:-//phil.firespring.org//NONSGML kigkonsult.se iCalcreator 2.30.10//
CALSCALE:GREGORIAN
METHOD:PUBLISH
UID:6866f1af-6308-453d-aaf7-94b26cba1b03
X-WR-CALDESC:
X-WR-RELCALID:d1cc6338eacb3bccc655b332b279a325
X-WR-TIMEZONE:America/Chicago
BEGIN:VTIMEZONE
TZID:America/Chicago
BEGIN:STANDARD
TZNAME:CST
DTSTART:20221106T020000
TZOFFSETFROM:-0500
TZOFFSETTO:-0600
RDATE:20231105T020000
RDATE:20241103T020000
END:STANDARD
BEGIN:DAYLIGHT
TZNAME:CDT
DTSTART:20230312T020000
TZOFFSETFROM:-0600
TZOFFSETTO:-0500
RDATE:20240310T020000
END:DAYLIGHT
END:VTIMEZONE
BEGIN:VEVENT
UID:529cf24b-6552-4282-8c3d-14511ad9eef9
DTSTAMP:20260425T143131Z
DESCRIPTION:
DTSTART;TZID=America/Chicago:20230529T000000
DTEND;TZID=America/Chicago:20230602T235900
LOCATION:
SUMMARY:Closed for Memorial Week
END:VEVENT
END:VCALENDAR
