BEGIN:VCALENDAR
VERSION:2.0
PRODID:-//phil.firespring.org//NONSGML kigkonsult.se iCalcreator 2.30.10//
CALSCALE:GREGORIAN
METHOD:PUBLISH
UID:05f12741-157d-4621-8e40-ab3391eda0fe
X-WR-CALDESC:No details!
X-WR-RELCALID:546f781d5cb58db02a6fa46bd34ea2c6
X-WR-TIMEZONE:America/Chicago
BEGIN:VTIMEZONE
TZID:America/Chicago
BEGIN:STANDARD
TZNAME:CST
DTSTART:20221106T020000
TZOFFSETFROM:-0500
TZOFFSETTO:-0600
RDATE:20231105T020000
RDATE:20241103T020000
END:STANDARD
BEGIN:DAYLIGHT
TZNAME:CDT
DTSTART:20230312T020000
TZOFFSETFROM:-0600
TZOFFSETTO:-0500
RDATE:20240310T020000
END:DAYLIGHT
END:VTIMEZONE
BEGIN:VEVENT
UID:4587ae89-87ad-4475-854a-c5bfa8412e8e
DTSTAMP:20260425T145621Z
DESCRIPTION:No details!
DTSTART;TZID=America/Chicago:20230608T160000
DTEND;TZID=America/Chicago:20230608T173000
LOCATION:
SUMMARY:Financial Stability 101 Class
END:VEVENT
END:VCALENDAR
