BEGIN:VCALENDAR
VERSION:2.0
PRODID:-//phil.firespring.org//NONSGML kigkonsult.se iCalcreator 2.30.10//
CALSCALE:GREGORIAN
METHOD:PUBLISH
UID:2af0f45b-c600-4d41-bd9c-8df266771311
X-WR-CALDESC:No details!
X-WR-RELCALID:6d042836f670ab78592416a977c10284
X-WR-TIMEZONE:America/Chicago
BEGIN:VTIMEZONE
TZID:America/Chicago
BEGIN:STANDARD
TZNAME:CST
DTSTART:20221106T020000
TZOFFSETFROM:-0500
TZOFFSETTO:-0600
RDATE:20231105T020000
RDATE:20241103T020000
END:STANDARD
BEGIN:DAYLIGHT
TZNAME:CDT
DTSTART:20230312T020000
TZOFFSETFROM:-0600
TZOFFSETTO:-0500
RDATE:20240310T020000
END:DAYLIGHT
END:VTIMEZONE
BEGIN:VEVENT
UID:4ff29ad4-76d0-43ec-9d60-95bf954bc624
DTSTAMP:20260425T144304Z
DESCRIPTION:No details!
DTSTART;TZID=America/Chicago:20230615T160000
DTEND;TZID=America/Chicago:20230615T173000
LOCATION:
SUMMARY:Financial Stability 101 Class
END:VEVENT
END:VCALENDAR
