BEGIN:VCALENDAR
VERSION:2.0
PRODID:-//phil.firespring.org//NONSGML kigkonsult.se iCalcreator 2.30.10//
CALSCALE:GREGORIAN
METHOD:PUBLISH
UID:f06ea5ab-33d2-45b4-b3d3-2d21d28f92ca
X-WR-CALDESC:Get help and help with better joints
X-WR-RELCALID:826cef0c30ebc1aec848d4b4c319f751
X-WR-TIMEZONE:America/Chicago
BEGIN:VTIMEZONE
TZID:America/Chicago
BEGIN:STANDARD
TZNAME:CST
DTSTART:20221106T020000
TZOFFSETFROM:-0500
TZOFFSETTO:-0600
RDATE:20231105T020000
RDATE:20241103T020000
END:STANDARD
BEGIN:DAYLIGHT
TZNAME:CDT
DTSTART:20230312T020000
TZOFFSETFROM:-0600
TZOFFSETTO:-0500
RDATE:20240310T020000
END:DAYLIGHT
END:VTIMEZONE
BEGIN:VEVENT
UID:a7387f68-157c-4031-8cc0-a2aec8d434fe
DTSTAMP:20260425T131423Z
DESCRIPTION:Get help and help with better joints
DTSTART;TZID=America/Chicago:20230711T103000
DTEND;TZID=America/Chicago:20230711T180000
LOCATION:
SUMMARY:Dr. Cunningham - Orthopedist
END:VEVENT
END:VCALENDAR
