BEGIN:VCALENDAR
VERSION:2.0
PRODID:-//phil.firespring.org//NONSGML kigkonsult.se iCalcreator 2.30.10//
CALSCALE:GREGORIAN
METHOD:PUBLISH
UID:507acb17-a067-482d-b5c5-df985d272e9f
X-WR-CALDESC:Get help and help with better joints
X-WR-RELCALID:73b6b43039298eaf4de3bf916269cc54
X-WR-TIMEZONE:America/Chicago
BEGIN:VTIMEZONE
TZID:America/Chicago
BEGIN:STANDARD
TZNAME:CST
DTSTART:20221106T020000
TZOFFSETFROM:-0500
TZOFFSETTO:-0600
RDATE:20231105T020000
RDATE:20241103T020000
END:STANDARD
BEGIN:DAYLIGHT
TZNAME:CDT
DTSTART:20230312T020000
TZOFFSETFROM:-0600
TZOFFSETTO:-0500
RDATE:20240310T020000
END:DAYLIGHT
END:VTIMEZONE
BEGIN:VEVENT
UID:6ab9900d-4c7d-44ce-9497-9bf3a4d2b894
DTSTAMP:20260425T131506Z
DESCRIPTION:Get help and help with better joints
DTSTART;TZID=America/Chicago:20230718T103000
DTEND;TZID=America/Chicago:20230718T180000
LOCATION:
SUMMARY:Dr. Cunningham - Orthopedist
END:VEVENT
END:VCALENDAR
