BEGIN:VCALENDAR
VERSION:2.0
PRODID:-//phil.firespring.org//NONSGML kigkonsult.se iCalcreator 2.30.10//
CALSCALE:GREGORIAN
METHOD:PUBLISH
UID:a891f881-1ce8-459b-9c71-b8eef2de497b
X-WR-CALDESC:Please bring drinking water
X-WR-RELCALID:e2f71e64867194e407a673a9465b970b
X-WR-TIMEZONE:America/Chicago
BEGIN:VTIMEZONE
TZID:America/Chicago
BEGIN:STANDARD
TZNAME:CST
DTSTART:20221106T020000
TZOFFSETFROM:-0500
TZOFFSETTO:-0600
RDATE:20231105T020000
RDATE:20241103T020000
END:STANDARD
BEGIN:DAYLIGHT
TZNAME:CDT
DTSTART:20230312T020000
TZOFFSETFROM:-0600
TZOFFSETTO:-0500
RDATE:20240310T020000
END:DAYLIGHT
END:VTIMEZONE
BEGIN:VEVENT
UID:655e81f3-42ef-4077-8dbd-8641714473ee
DTSTAMP:20260425T131259Z
DESCRIPTION:Please bring drinking water
DTSTART;TZID=America/Chicago:20230727T160000
DTEND;TZID=America/Chicago:20230727T170000
LOCATION:Firespring
SUMMARY:Walking Group
END:VEVENT
END:VCALENDAR
