BEGIN:VCALENDAR
VERSION:2.0
PRODID:-//phil.firespring.org//NONSGML kigkonsult.se iCalcreator 2.30.10//
CALSCALE:GREGORIAN
METHOD:PUBLISH
UID:56d3f029-dccc-4de7-948f-d61d7df537f5
X-WR-CALDESC:Get help and help with better joints
X-WR-RELCALID:173fded68506b452d30d1456f9c809c4
X-WR-TIMEZONE:America/Chicago
BEGIN:VTIMEZONE
TZID:America/Chicago
BEGIN:STANDARD
TZNAME:CST
DTSTART:20221106T020000
TZOFFSETFROM:-0500
TZOFFSETTO:-0600
RDATE:20231105T020000
RDATE:20241103T020000
END:STANDARD
BEGIN:DAYLIGHT
TZNAME:CDT
DTSTART:20230312T020000
TZOFFSETFROM:-0600
TZOFFSETTO:-0500
RDATE:20240310T020000
END:DAYLIGHT
END:VTIMEZONE
BEGIN:VEVENT
UID:99dbae2e-5151-4d9f-ab5a-f89abf2d9c8c
DTSTAMP:20260425T115215Z
DESCRIPTION:Get help and help with better joints
DTSTART;TZID=America/Chicago:20230815T103000
DTEND;TZID=America/Chicago:20230815T180000
LOCATION:
SUMMARY:Dr. Cunningham - Orthopedist
END:VEVENT
END:VCALENDAR
