BEGIN:VCALENDAR
VERSION:2.0
PRODID:-//phil.firespring.org//NONSGML kigkonsult.se iCalcreator 2.30.10//
CALSCALE:GREGORIAN
METHOD:PUBLISH
UID:a66e74b8-663b-49f0-a45a-31da53df6e60
X-WR-CALDESC:Get help and help with better joints
X-WR-RELCALID:3756df8f31f8f35914c370e55d55b324
X-WR-TIMEZONE:America/Chicago
BEGIN:VTIMEZONE
TZID:America/Chicago
BEGIN:STANDARD
TZNAME:CST
DTSTART:20221106T020000
TZOFFSETFROM:-0500
TZOFFSETTO:-0600
RDATE:20231105T020000
RDATE:20241103T020000
END:STANDARD
BEGIN:DAYLIGHT
TZNAME:CDT
DTSTART:20230312T020000
TZOFFSETFROM:-0600
TZOFFSETTO:-0500
RDATE:20240310T020000
END:DAYLIGHT
END:VTIMEZONE
BEGIN:VEVENT
UID:f5e72bd3-78cd-42cd-9269-d7a2d6ed7cd7
DTSTAMP:20260425T115147Z
DESCRIPTION:Get help and help with better joints
DTSTART;TZID=America/Chicago:20230822T103000
DTEND;TZID=America/Chicago:20230822T180000
LOCATION:
SUMMARY:Dr. Cunningham - Orthopedist
END:VEVENT
END:VCALENDAR
