BEGIN:VCALENDAR
VERSION:2.0
PRODID:-//phil.firespring.org//NONSGML kigkonsult.se iCalcreator 2.30.10//
CALSCALE:GREGORIAN
METHOD:PUBLISH
UID:9cdbf4c1-5c17-424d-b86f-936adb2f871e
X-WR-CALDESC:Please bring drinking water
X-WR-RELCALID:b8be2241c73ecc7f632c088a3ed0cbcb
X-WR-TIMEZONE:America/Chicago
BEGIN:VTIMEZONE
TZID:America/Chicago
BEGIN:STANDARD
TZNAME:CST
DTSTART:20221106T020000
TZOFFSETFROM:-0500
TZOFFSETTO:-0600
RDATE:20231105T020000
RDATE:20241103T020000
END:STANDARD
BEGIN:DAYLIGHT
TZNAME:CDT
DTSTART:20230312T020000
TZOFFSETFROM:-0600
TZOFFSETTO:-0500
RDATE:20240310T020000
END:DAYLIGHT
END:VTIMEZONE
BEGIN:VEVENT
UID:e57d146a-2700-46c9-b6d8-d8074d0ed383
DTSTAMP:20260425T114950Z
DESCRIPTION:Please bring drinking water
DTSTART;TZID=America/Chicago:20230831T160000
DTEND;TZID=America/Chicago:20230831T170000
LOCATION:Firespring
SUMMARY:Walking Group
END:VEVENT
END:VCALENDAR
