BEGIN:VCALENDAR
VERSION:2.0
PRODID:-//phil.firespring.org//NONSGML kigkonsult.se iCalcreator 2.30.10//
CALSCALE:GREGORIAN
METHOD:PUBLISH
UID:bc3c3e59-aede-4b07-9f08-cad837888b71
X-WR-CALDESC:Get help and help with better joints
X-WR-RELCALID:c29629972c9ca29e1a5c6c5793e1032d
X-WR-TIMEZONE:America/Chicago
BEGIN:VTIMEZONE
TZID:America/Chicago
BEGIN:STANDARD
TZNAME:CST
DTSTART:20221106T020000
TZOFFSETFROM:-0500
TZOFFSETTO:-0600
RDATE:20231105T020000
RDATE:20241103T020000
END:STANDARD
BEGIN:DAYLIGHT
TZNAME:CDT
DTSTART:20230312T020000
TZOFFSETFROM:-0600
TZOFFSETTO:-0500
RDATE:20240310T020000
END:DAYLIGHT
END:VTIMEZONE
BEGIN:VEVENT
UID:310a9f5e-807a-4a63-8494-0b787934d082
DTSTAMP:20260421T104528Z
DESCRIPTION:Get help and help with better joints
DTSTART;TZID=America/Chicago:20230905T103000
DTEND;TZID=America/Chicago:20230905T180000
LOCATION:
SUMMARY:Dr. Cunningham - Orthopedist
END:VEVENT
END:VCALENDAR
