BEGIN:VCALENDAR
VERSION:2.0
PRODID:-//phil.firespring.org//NONSGML kigkonsult.se iCalcreator 2.30.10//
CALSCALE:GREGORIAN
METHOD:PUBLISH
UID:60f987c4-2a72-47d7-ae7d-4e288fce4fea
X-WR-CALDESC:Get help and help with better joints
X-WR-RELCALID:97527865f5d1afbf251236b156e78e2f
X-WR-TIMEZONE:America/Chicago
BEGIN:VTIMEZONE
TZID:America/Chicago
BEGIN:STANDARD
TZNAME:CST
DTSTART:20231105T020000
TZOFFSETFROM:-0500
TZOFFSETTO:-0600
RDATE:20241103T020000
END:STANDARD
BEGIN:DAYLIGHT
TZNAME:CDT
DTSTART:20230312T020000
TZOFFSETFROM:-0600
TZOFFSETTO:-0500
RDATE:20240310T020000
RDATE:20250309T020000
END:DAYLIGHT
END:VTIMEZONE
BEGIN:VEVENT
UID:a5a0fecd-8b6c-44f7-b1f2-5f8bade40de2
DTSTAMP:20260421T091048Z
DESCRIPTION:Get help and help with better joints
DTSTART;TZID=America/Chicago:20231107T103000
DTEND;TZID=America/Chicago:20231107T180000
LOCATION:
SUMMARY:Dr. Cunningham - Orthopedist
END:VEVENT
END:VCALENDAR
