BEGIN:VCALENDAR
VERSION:2.0
PRODID:-//phil.firespring.org//NONSGML kigkonsult.se iCalcreator 2.30.10//
CALSCALE:GREGORIAN
METHOD:PUBLISH
UID:d9815720-d7a3-4c67-9499-feb5b0479a5f
X-WR-CALDESC:Get help and help with better joints
X-WR-RELCALID:33452b1e372b3a1e4b69029ef626c862
X-WR-TIMEZONE:America/Chicago
BEGIN:VTIMEZONE
TZID:America/Chicago
BEGIN:STANDARD
TZNAME:CST
DTSTART:20231105T020000
TZOFFSETFROM:-0500
TZOFFSETTO:-0600
RDATE:20241103T020000
END:STANDARD
BEGIN:DAYLIGHT
TZNAME:CDT
DTSTART:20230312T020000
TZOFFSETFROM:-0600
TZOFFSETTO:-0500
RDATE:20240310T020000
RDATE:20250309T020000
END:DAYLIGHT
END:VTIMEZONE
BEGIN:VEVENT
UID:7c35e11e-6998-4b4c-9b4a-1487d4e0d1e5
DTSTAMP:20260421T091349Z
DESCRIPTION:Get help and help with better joints
DTSTART;TZID=America/Chicago:20231114T103000
DTEND;TZID=America/Chicago:20231114T180000
LOCATION:
SUMMARY:Dr. Cunningham - Orthopedist
END:VEVENT
END:VCALENDAR
