BEGIN:VCALENDAR
VERSION:2.0
PRODID:-//phil.firespring.org//NONSGML kigkonsult.se iCalcreator 2.30.10//
CALSCALE:GREGORIAN
METHOD:PUBLISH
UID:08686521-d611-4900-9a41-ed954e45aee0
X-WR-CALDESC:Get help and help with better joints
X-WR-RELCALID:99f16afe40e0ea88dbf35cbd1afdaf0c
X-WR-TIMEZONE:America/Chicago
BEGIN:VTIMEZONE
TZID:America/Chicago
BEGIN:STANDARD
TZNAME:CST
DTSTART:20231105T020000
TZOFFSETFROM:-0500
TZOFFSETTO:-0600
RDATE:20241103T020000
END:STANDARD
BEGIN:DAYLIGHT
TZNAME:CDT
DTSTART:20230312T020000
TZOFFSETFROM:-0600
TZOFFSETTO:-0500
RDATE:20240310T020000
RDATE:20250309T020000
END:DAYLIGHT
END:VTIMEZONE
BEGIN:VEVENT
UID:a7feb812-21f2-4f28-98b2-65c950137949
DTSTAMP:20260421T090940Z
DESCRIPTION:Get help and help with better joints
DTSTART;TZID=America/Chicago:20231121T103000
DTEND;TZID=America/Chicago:20231121T180000
LOCATION:
SUMMARY:Dr. Cunningham - Orthopedist
END:VEVENT
END:VCALENDAR
