BEGIN:VCALENDAR
VERSION:2.0
PRODID:-//phil.firespring.org//NONSGML kigkonsult.se iCalcreator 2.30.10//
CALSCALE:GREGORIAN
METHOD:PUBLISH
UID:e2af58a9-560f-45be-bdcb-f8600cbad573
X-WR-CALDESC:Please bring drinking water
X-WR-RELCALID:973ee00294d8d9f2d5efb2c7b185f2d3
X-WR-TIMEZONE:America/Chicago
BEGIN:VTIMEZONE
TZID:America/Chicago
BEGIN:STANDARD
TZNAME:CST
DTSTART:20231105T020000
TZOFFSETFROM:-0500
TZOFFSETTO:-0600
RDATE:20241103T020000
END:STANDARD
BEGIN:DAYLIGHT
TZNAME:CDT
DTSTART:20230312T020000
TZOFFSETFROM:-0600
TZOFFSETTO:-0500
RDATE:20240310T020000
RDATE:20250309T020000
END:DAYLIGHT
END:VTIMEZONE
BEGIN:VEVENT
UID:bccbe593-63bf-4389-b652-36010db71dc7
DTSTAMP:20260421T090632Z
DESCRIPTION:Please bring drinking water
DTSTART;TZID=America/Chicago:20231130T160000
DTEND;TZID=America/Chicago:20231130T170000
LOCATION:Firespring
SUMMARY:Walking Group
END:VEVENT
END:VCALENDAR
