BEGIN:VCALENDAR
VERSION:2.0
PRODID:-//phil.firespring.org//NONSGML kigkonsult.se iCalcreator 2.30.10//
CALSCALE:GREGORIAN
METHOD:PUBLISH
UID:a45fb40c-bdde-48c0-9d4a-8001e006525c
X-WR-CALDESC:Please bring drinking water
X-WR-RELCALID:79456a4f7acbf735bfc95bbb46a84a37
X-WR-TIMEZONE:America/Chicago
BEGIN:VTIMEZONE
TZID:America/Chicago
BEGIN:STANDARD
TZNAME:CST
DTSTART:20271107T020000
TZOFFSETFROM:-0500
TZOFFSETTO:-0600
RDATE:20281105T020000
RDATE:20291104T020000
END:STANDARD
BEGIN:DAYLIGHT
TZNAME:CDT
DTSTART:20280312T020000
TZOFFSETFROM:-0600
TZOFFSETTO:-0500
RDATE:20290311T020000
END:DAYLIGHT
END:VTIMEZONE
BEGIN:VEVENT
UID:1c77b2fe-499e-49fe-b017-331ccc51ddcb
DTSTAMP:20260421T090510Z
DESCRIPTION:Please bring drinking water
DTSTART;TZID=America/Chicago:20280810T160000
DTEND;TZID=America/Chicago:20280810T170000
LOCATION:Firespring
SUMMARY:Walking Group
END:VEVENT
END:VCALENDAR
