BEGIN:VCALENDAR
VERSION:2.0
PRODID:-//phil.firespring.org//NONSGML kigkonsult.se iCalcreator 2.30.10//
CALSCALE:GREGORIAN
METHOD:PUBLISH
UID:9a48d7ae-36eb-4d39-8502-e5b9a2c71784
X-WR-CALDESC:Please bring drinking water
X-WR-RELCALID:65260995899ed39d12b2054c7643e5df
X-WR-TIMEZONE:America/Chicago
BEGIN:VTIMEZONE
TZID:America/Chicago
BEGIN:STANDARD
TZNAME:CST
DTSTART:20271107T020000
TZOFFSETFROM:-0500
TZOFFSETTO:-0600
RDATE:20281105T020000
RDATE:20291104T020000
END:STANDARD
BEGIN:DAYLIGHT
TZNAME:CDT
DTSTART:20280312T020000
TZOFFSETFROM:-0600
TZOFFSETTO:-0500
RDATE:20290311T020000
END:DAYLIGHT
END:VTIMEZONE
BEGIN:VEVENT
UID:09a1d415-0e6c-4bb2-9c6d-c00a5d9cbaa9
DTSTAMP:20260421T090352Z
DESCRIPTION:Please bring drinking water
DTSTART;TZID=America/Chicago:20280907T160000
DTEND;TZID=America/Chicago:20280907T170000
LOCATION:Firespring
SUMMARY:Walking Group
END:VEVENT
END:VCALENDAR
