BEGIN:VCALENDAR
VERSION:2.0
PRODID:-//phil.firespring.org//NONSGML kigkonsult.se iCalcreator 2.30.10//
CALSCALE:GREGORIAN
METHOD:PUBLISH
UID:734327f3-ff48-462f-bf39-8f88342b2369
X-WR-CALDESC:Please bring drinking water
X-WR-RELCALID:6e5530cf4ae60a145a0d48bf2a845516
X-WR-TIMEZONE:America/Chicago
BEGIN:VTIMEZONE
TZID:America/Chicago
BEGIN:STANDARD
TZNAME:CST
DTSTART:20281105T020000
TZOFFSETFROM:-0500
TZOFFSETTO:-0600
RDATE:20291104T020000
END:STANDARD
BEGIN:DAYLIGHT
TZNAME:CDT
DTSTART:20280312T020000
TZOFFSETFROM:-0600
TZOFFSETTO:-0500
RDATE:20290311T020000
RDATE:20300310T020000
END:DAYLIGHT
END:VTIMEZONE
BEGIN:VEVENT
UID:1784bbc2-68a7-418f-a5d1-d1afa3862d4e
DTSTAMP:20260425T102119Z
DESCRIPTION:Please bring drinking water
DTSTART;TZID=America/Chicago:20281130T160000
DTEND;TZID=America/Chicago:20281130T170000
LOCATION:Firespring
SUMMARY:Walking Group
END:VEVENT
END:VCALENDAR
