BEGIN:VCALENDAR
VERSION:2.0
PRODID:-//phil.firespring.org//NONSGML kigkonsult.se iCalcreator 2.30.10//
CALSCALE:GREGORIAN
METHOD:PUBLISH
UID:4e5f592e-5804-4306-9e12-ba42c57a8df5
X-WR-CALDESC:Please bring drinking water
X-WR-RELCALID:ff990e6d1d61d709c61a65ca81bcbf56
X-WR-TIMEZONE:America/Chicago
BEGIN:VTIMEZONE
TZID:America/Chicago
BEGIN:STANDARD
TZNAME:CST
DTSTART:20281105T020000
TZOFFSETFROM:-0500
TZOFFSETTO:-0600
RDATE:20291104T020000
END:STANDARD
BEGIN:DAYLIGHT
TZNAME:CDT
DTSTART:20280312T020000
TZOFFSETFROM:-0600
TZOFFSETTO:-0500
RDATE:20290311T020000
RDATE:20300310T020000
END:DAYLIGHT
END:VTIMEZONE
BEGIN:VEVENT
UID:6a568403-97e4-490f-b33f-c45771dfef03
DTSTAMP:20260421T134730Z
DESCRIPTION:Please bring drinking water
DTSTART;TZID=America/Chicago:20281228T160000
DTEND;TZID=America/Chicago:20281228T170000
LOCATION:Firespring
SUMMARY:Walking Group
END:VEVENT
END:VCALENDAR
