BEGIN:VCALENDAR
VERSION:2.0
PRODID:-//phil.firespring.org//NONSGML kigkonsult.se iCalcreator 2.30.10//
CALSCALE:GREGORIAN
METHOD:PUBLISH
UID:86ca2e71-4615-475e-8399-504be0f7570b
X-WR-CALDESC:Please bring drinking water
X-WR-RELCALID:ea6faea38dd4a167f6005e59103d25dd
X-WR-TIMEZONE:America/Chicago
BEGIN:VTIMEZONE
TZID:America/Chicago
BEGIN:STANDARD
TZNAME:CST
DTSTART:20281105T020000
TZOFFSETFROM:-0500
TZOFFSETTO:-0600
RDATE:20291104T020000
END:STANDARD
BEGIN:DAYLIGHT
TZNAME:CDT
DTSTART:20280312T020000
TZOFFSETFROM:-0600
TZOFFSETTO:-0500
RDATE:20290311T020000
RDATE:20300310T020000
END:DAYLIGHT
END:VTIMEZONE
BEGIN:VEVENT
UID:ef26c948-791f-4196-970f-8fdf189e7b4a
DTSTAMP:20260421T153012Z
DESCRIPTION:Please bring drinking water
DTSTART;TZID=America/Chicago:20290104T160000
DTEND;TZID=America/Chicago:20290104T170000
LOCATION:Firespring
SUMMARY:Walking Group
END:VEVENT
END:VCALENDAR
