BEGIN:VCALENDAR
VERSION:2.0
PRODID:-//phil.firespring.org//NONSGML kigkonsult.se iCalcreator 2.30.10//
CALSCALE:GREGORIAN
METHOD:PUBLISH
UID:1c7adc6d-5aba-4ea9-ad00-fd6395fd10e6
X-WR-CALDESC:
X-WR-RELCALID:38232fcb5a7cc66d94067e8d140fdde0
X-WR-TIMEZONE:America/Chicago
BEGIN:VTIMEZONE
TZID:America/Chicago
BEGIN:STANDARD
TZNAME:CST
DTSTART:20281105T020000
TZOFFSETFROM:-0500
TZOFFSETTO:-0600
RDATE:20291104T020000
END:STANDARD
BEGIN:DAYLIGHT
TZNAME:CDT
DTSTART:20280312T020000
TZOFFSETFROM:-0600
TZOFFSETTO:-0500
RDATE:20290311T020000
RDATE:20300310T020000
END:DAYLIGHT
END:VTIMEZONE
BEGIN:VEVENT
UID:d6fd9a5b-8b56-4cf2-9aa0-50e42a0ea10f
DTSTAMP:20260421T154436Z
DESCRIPTION:
DTSTART;TZID=America/Chicago:20290118T133000
DTEND;TZID=America/Chicago:20290118T143000
LOCATION:
SUMMARY:Monthly Lunch
END:VEVENT
END:VCALENDAR
