BEGIN:VCALENDAR
VERSION:2.0
PRODID:-//phil.firespring.org//NONSGML kigkonsult.se iCalcreator 2.30.10//
CALSCALE:GREGORIAN
METHOD:PUBLISH
UID:28832f0a-beee-4653-9f18-357d02132983
X-WR-CALDESC:Please bring drinking water
X-WR-RELCALID:e647df83bce6114e2cd6931fa46d2da5
X-WR-TIMEZONE:America/Chicago
BEGIN:VTIMEZONE
TZID:America/Chicago
BEGIN:STANDARD
TZNAME:CST
DTSTART:20281105T020000
TZOFFSETFROM:-0500
TZOFFSETTO:-0600
RDATE:20291104T020000
END:STANDARD
BEGIN:DAYLIGHT
TZNAME:CDT
DTSTART:20280312T020000
TZOFFSETFROM:-0600
TZOFFSETTO:-0500
RDATE:20290311T020000
RDATE:20300310T020000
END:DAYLIGHT
END:VTIMEZONE
BEGIN:VEVENT
UID:bab00904-2c47-4829-908d-03cd765ff1f3
DTSTAMP:20260421T224913Z
DESCRIPTION:Please bring drinking water
DTSTART;TZID=America/Chicago:20290301T160000
DTEND;TZID=America/Chicago:20290301T170000
LOCATION:Firespring
SUMMARY:Walking Group
END:VEVENT
END:VCALENDAR
