BEGIN:VCALENDAR
VERSION:2.0
PRODID:-//phil.firespring.org//NONSGML kigkonsult.se iCalcreator 2.30.10//
CALSCALE:GREGORIAN
METHOD:PUBLISH
UID:6d50e076-0480-49a1-882b-4ef8b0cad30a
X-WR-CALDESC:Please bring drinking water
X-WR-RELCALID:aae6e0682b4d687cb6e5fd5a2cfce350
X-WR-TIMEZONE:America/Chicago
BEGIN:VTIMEZONE
TZID:America/Chicago
BEGIN:STANDARD
TZNAME:CST
DTSTART:20281105T020000
TZOFFSETFROM:-0500
TZOFFSETTO:-0600
RDATE:20291104T020000
END:STANDARD
BEGIN:DAYLIGHT
TZNAME:CDT
DTSTART:20280312T020000
TZOFFSETFROM:-0600
TZOFFSETTO:-0500
RDATE:20290311T020000
RDATE:20300310T020000
END:DAYLIGHT
END:VTIMEZONE
BEGIN:VEVENT
UID:b724186f-0bbc-4ab5-8cff-b9cbc033f489
DTSTAMP:20260421T223601Z
DESCRIPTION:Please bring drinking water
DTSTART;TZID=America/Chicago:20290308T160000
DTEND;TZID=America/Chicago:20290308T170000
LOCATION:Firespring
SUMMARY:Walking Group
END:VEVENT
END:VCALENDAR
