BEGIN:VCALENDAR
VERSION:2.0
PRODID:-//phil.firespring.org//NONSGML kigkonsult.se iCalcreator 2.30.10//
CALSCALE:GREGORIAN
METHOD:PUBLISH
UID:079298ee-32c0-4a8f-99f7-6eb8af61f360
X-WR-CALDESC:Please bring drinking water
X-WR-RELCALID:bdd70bda98f7e27e9fb525aff43cfa20
X-WR-TIMEZONE:America/Chicago
BEGIN:VTIMEZONE
TZID:America/Chicago
BEGIN:STANDARD
TZNAME:CST
DTSTART:20281105T020000
TZOFFSETFROM:-0500
TZOFFSETTO:-0600
RDATE:20291104T020000
END:STANDARD
BEGIN:DAYLIGHT
TZNAME:CDT
DTSTART:20290311T020000
TZOFFSETFROM:-0600
TZOFFSETTO:-0500
RDATE:20300310T020000
END:DAYLIGHT
END:VTIMEZONE
BEGIN:VEVENT
UID:4d2255a9-2303-4c1c-ae2a-84580a8f3ff0
DTSTAMP:20260421T225015Z
DESCRIPTION:Please bring drinking water
DTSTART;TZID=America/Chicago:20290329T160000
DTEND;TZID=America/Chicago:20290329T170000
LOCATION:Firespring
SUMMARY:Walking Group
END:VEVENT
END:VCALENDAR
